Package: immunoClust
Version: 1.36.0
Command: E:\biocbuild\bbs-3.19-bioc\R\bin\R.exe CMD INSTALL immunoClust
StartedAt: 2024-10-16 16:21:54 -0400 (Wed, 16 Oct 2024)
EndedAt: 2024-10-16 16:23:12 -0400 (Wed, 16 Oct 2024)
EllapsedTime: 77.9 seconds
RetCode: 0
Status: OK