Package: immunoClust
Version: 1.36.0
Command: E:\biocbuild\bbs-3.19-bioc\R\bin\R.exe CMD check --no-multiarch --install=check:immunoClust.install-out.txt --library=E:\biocbuild\bbs-3.19-bioc\R\library --no-vignettes --timings immunoClust_1.36.0.tar.gz
StartedAt: 2024-10-17 02:29:41 -0400 (Thu, 17 Oct 2024)
EndedAt: 2024-10-17 02:33:43 -0400 (Thu, 17 Oct 2024)
EllapsedTime: 242.6 seconds
RetCode: 0
Status: OK
CheckDir: immunoClust.Rcheck
Warnings: 0