Package: immunoClust Version: 1.36.0 Command: chmod a+r immunoClust -R && E:\biocbuild\bbs-3.19-bioc\R\bin\R.exe CMD build --keep-empty-dirs --no-resave-data immunoClust StartedAt: 2024-10-16 19:47:59 -0400 (Wed, 16 Oct 2024) EndedAt: 2024-10-16 19:53:32 -0400 (Wed, 16 Oct 2024) EllapsedTime: 333.3 seconds RetCode: 0 Status: OK PackageFile: immunoClust_1.36.0.tar.gz PackageFileSize: 2.438 <A href="http://en.wikipedia.org/wiki/MiB" target="_blank">MiB</A>