Package: immunoClust
Version: 1.36.0
Command: F:\biocbuild\bbs-3.19-bioc\R\bin\R.exe CMD check --no-multiarch --install=check:immunoClust.install-out.txt --library=F:\biocbuild\bbs-3.19-bioc\R\library --no-vignettes --timings immunoClust_1.36.0.tar.gz
StartedAt: 2024-06-27 02:44:53 -0400 (Thu, 27 Jun 2024)
EndedAt: 2024-06-27 02:49:08 -0400 (Thu, 27 Jun 2024)
EllapsedTime: 254.7 seconds
RetCode: 0
Status: OK
CheckDir: immunoClust.Rcheck
Warnings: 0