Package: immunoClust
Version: 1.36.0
Command: /Library/Frameworks/R.framework/Resources/bin/R CMD INSTALL immunoClust
StartedAt: 2024-06-09 15:13:11 -0400 (Sun, 09 Jun 2024)
EndedAt: 2024-06-09 15:13:47 -0400 (Sun, 09 Jun 2024)
EllapsedTime: 36.4 seconds
RetCode: 0
Status: OK