Package: immunoClust
Version: 1.36.0
Command: /Library/Frameworks/R.framework/Resources/bin/R CMD check --install=check:immunoClust.install-out.txt --library=/Library/Frameworks/R.framework/Resources/library --no-vignettes --timings immunoClust_1.36.0.tar.gz
StartedAt: 2024-06-09 21:00:22 -0400 (Sun, 09 Jun 2024)
EndedAt: 2024-06-09 21:03:41 -0400 (Sun, 09 Jun 2024)
EllapsedTime: 199.4 seconds
RetCode: 0
Status: OK
CheckDir: immunoClust.Rcheck
Warnings: 0