Package: immunoClust
Version: 1.36.0
Command: /Library/Frameworks/R.framework/Resources/bin/R CMD build --keep-empty-dirs --no-resave-data immunoClust
StartedAt: 2024-06-09 17:00:08 -0400 (Sun, 09 Jun 2024)
EndedAt: 2024-06-09 17:03:35 -0400 (Sun, 09 Jun 2024)
EllapsedTime: 206.7 seconds
RetCode: 0
Status: OK
PackageFile: immunoClust_1.36.0.tar.gz
PackageFileSize: 2.438 <A href="http://en.wikipedia.org/wiki/MiB" target="_blank">MiB</A>