Package: immunoClust
Version: 1.36.0
Command: rm -rf immunoClust.buildbin-libdir && mkdir immunoClust.buildbin-libdir && /Users/biocbuild/BBS/utils/build-universal.sh immunoClust_1.36.0.tar.gz /Library/Frameworks/R.framework/Resources/bin/R immunoClust.buildbin-libdir
StartedAt: 2024-06-10 00:23:07 -0400 (Mon, 10 Jun 2024)
EndedAt: 2024-06-10 00:23:51 -0400 (Mon, 10 Jun 2024)
EllapsedTime: 44.3 seconds
RetCode: 0
Status: OK
PackageFile: immunoClust_1.36.0.tgz
PackageFileSize: 3.293 <A href="http://en.wikipedia.org/wiki/MiB" target="_blank">MiB</A>