Package: immunoClust Version: 1.36.0 Command: /Library/Frameworks/R.framework/Resources/bin/R CMD check --install=check:immunoClust.install-out.txt --library=/Library/Frameworks/R.framework/Resources/library --no-vignettes --timings immunoClust_1.36.0.tar.gz StartedAt: 2024-10-18 01:07:16 -0400 (Fri, 18 Oct 2024) EndedAt: 2024-10-18 01:11:02 -0400 (Fri, 18 Oct 2024) EllapsedTime: 225.2 seconds RetCode: 0 Status: OK CheckDir: immunoClust.Rcheck Warnings: 0