Package: immunoClust
Version: 1.36.0
Command: /Library/Frameworks/R.framework/Resources/bin/R CMD build --keep-empty-dirs --no-resave-data immunoClust
StartedAt: 2024-10-17 02:44:22 -0400 (Thu, 17 Oct 2024)
EndedAt: 2024-10-17 02:48:34 -0400 (Thu, 17 Oct 2024)
EllapsedTime: 252.1 seconds
RetCode: 0
Status: OK
PackageFile: immunoClust_1.36.0.tar.gz
PackageFileSize: 2.434 <A href="http://en.wikipedia.org/wiki/MiB" target="_blank">MiB</A>