Package: idr2d
Version: 1.18.0
Maintainer: Konstantin Krismer
MaintainerEmail: krismer at mit.edu
git_url: https://git.bioconductor.org/packages/idr2d
git_branch: RELEASE_3_19
git_last_commit: 9f13d38
git_last_commit_date: 2024-04-30 11:17:06 -0400 (Tue, 30 Apr 2024)