Package: iSEEu
Version: 1.16.0
Maintainer: Kevin Rue-Albrecht
MaintainerEmail: kevinrue67 at gmail.com
git_url: https://git.bioconductor.org/packages/iSEEu
git_branch: RELEASE_3_19
git_last_commit: 1b8994b
git_last_commit_date: 2024-04-30 11:22:58 -0400 (Tue, 30 Apr 2024)