Package: iSEEpathways
Version: 1.2.0
Maintainer: Kevin Rue-Albrecht
MaintainerEmail: kevinrue67 at gmail.com
git_url: https://git.bioconductor.org/packages/iSEEpathways
git_branch: RELEASE_3_19
git_last_commit: 77d3a43
git_last_commit_date: 2024-04-30 11:51:21 -0400 (Tue, 30 Apr 2024)