Package: iSEEde
Version: 1.2.0
Command: /home/biocbuild/R/R-beta-2024-04-15_r86425/bin/R CMD check --install=check:iSEEde.install-out.txt --library=/home/biocbuild/R/R-beta-2024-04-15_r86425/site-library --no-vignettes --timings iSEEde_1.2.0.tar.gz
StartedAt: 2024-05-09 08:41:28 -0000 (Thu, 09 May 2024)
EndedAt: 2024-05-09 08:46:55 -0000 (Thu, 09 May 2024)
EllapsedTime: 326.6 seconds
RetCode: 0
Status: OK
CheckDir: iSEEde.Rcheck
Warnings: 0