Package: iSEEde
Version: 1.2.0
Command: /home/biocbuild/R/R-beta-2024-04-15_r86425/bin/R CMD build --keep-empty-dirs --no-resave-data iSEEde
StartedAt: 2024-05-09 01:09:53 -0000 (Thu, 09 May 2024)
EndedAt: 2024-05-09 01:12:27 -0000 (Thu, 09 May 2024)
EllapsedTime: 154.2 seconds
RetCode: 0
Status: OK
PackageFile: iSEEde_1.2.0.tar.gz
PackageFileSize: 3.349 <A href="http://en.wikipedia.org/wiki/MiB" target="_blank">MiB</A>