Package: iPAC
Version: 1.48.0
Command: chmod a+r iPAC -R && F:\biocbuild\bbs-3.19-bioc\R\bin\R.exe CMD build --keep-empty-dirs --no-resave-data iPAC
StartedAt: 2024-06-26 19:37:44 -0400 (Wed, 26 Jun 2024)
EndedAt: 2024-06-26 19:38:10 -0400 (Wed, 26 Jun 2024)
EllapsedTime: 26.2 seconds
RetCode: 0
Status: OK
PackageFile: iPAC_1.48.0.tar.gz
PackageFileSize: 450.7 <A href="http://en.wikipedia.org/wiki/KiB" target="_blank">KiB</A>