Package: iPAC
Version: 1.48.0
Command: rm -rf iPAC.buildbin-libdir && mkdir iPAC.buildbin-libdir && F:\biocbuild\bbs-3.19-bioc\R\bin\R.exe CMD INSTALL --build --library=iPAC.buildbin-libdir iPAC_1.48.0.tar.gz
StartedAt: 2024-06-27 08:23:24 -0400 (Thu, 27 Jun 2024)
EndedAt: 2024-06-27 08:23:45 -0400 (Thu, 27 Jun 2024)
EllapsedTime: 20.7 seconds
RetCode: 0
Status: OK
PackageFile: iPAC_1.48.0.zip
PackageFileSize: 392 <A href="http://en.wikipedia.org/wiki/KiB" target="_blank">KiB</A>