Package: iNETgrate
Version: 1.2.0
Maintainer: Habil Zare
MaintainerEmail: zare at u.washington.edu
git_url: https://git.bioconductor.org/packages/iNETgrate
git_branch: RELEASE_3_19
git_last_commit: cfa5063
git_last_commit_date: 2024-04-30 11:50:02 -0400 (Tue, 30 Apr 2024)