Package: iChip
Version: 1.58.0
Command: chmod a+r iChip -R && F:\biocbuild\bbs-3.19-bioc\R\bin\R.exe CMD build --keep-empty-dirs --no-resave-data iChip
StartedAt: 2024-06-26 19:31:23 -0400 (Wed, 26 Jun 2024)
EndedAt: 2024-06-26 19:32:22 -0400 (Wed, 26 Jun 2024)
EllapsedTime: 58.8 seconds
RetCode: 0
Status: OK
PackageFile: iChip_1.58.0.tar.gz
PackageFileSize: 1.589 <A href="http://en.wikipedia.org/wiki/MiB" target="_blank">MiB</A>