Package: iBMQ
Version: 1.44.0
Maintainer: Greg Imholte
MaintainerEmail: gimholte at uw.edu
git_url: https://git.bioconductor.org/packages/iBMQ
git_branch: RELEASE_3_19
git_last_commit: 7eda7b0
git_last_commit_date: 2024-04-30 10:30:01 -0400 (Tue, 30 Apr 2024)