Package: hypergraph
Version: 1.76.0
Command: rm -rf hypergraph.buildbin-libdir && mkdir hypergraph.buildbin-libdir && /Users/biocbuild/BBS/utils/build-universal.sh hypergraph_1.76.0.tar.gz /Library/Frameworks/R.framework/Resources/bin/R hypergraph.buildbin-libdir
StartedAt: 2024-10-18 18:57:37 -0400 (Fri, 18 Oct 2024)
EndedAt: 2024-10-18 18:57:44 -0400 (Fri, 18 Oct 2024)
EllapsedTime: 6.9 seconds
RetCode: 0
Status: OK
PackageFile: hypergraph_1.76.0.tgz
PackageFileSize: 169.3 <A href="http://en.wikipedia.org/wiki/KiB" target="_blank">KiB</A>