Package: hierGWAS
Version: 1.34.0
Maintainer: Laura Buzdugan
MaintainerEmail: buzdugan at stat.math.ethz.ch
git_url: https://git.bioconductor.org/packages/hierGWAS
git_branch: RELEASE_3_19
git_last_commit: 788ec6f
git_last_commit_date: 2024-04-30 10:44:12 -0400 (Tue, 30 Apr 2024)