Package: hicVennDiagram
Version: 1.2.0
Maintainer: Jianhong Ou
MaintainerEmail: jianhong.ou at duke.edu
git_url: https://git.bioconductor.org/packages/hicVennDiagram
git_branch: RELEASE_3_19
git_last_commit: cf5f1bc
git_last_commit_date: 2024-04-30 11:50:38 -0400 (Tue, 30 Apr 2024)