Package: hiReadsProcessor
Version: 1.40.0
Maintainer: Nirav V Malani
MaintainerEmail: malnirav at gmail.com
git_url: https://git.bioconductor.org/packages/hiReadsProcessor
git_branch: RELEASE_3_19
git_last_commit: ad28de1
git_last_commit_date: 2024-04-30 10:38:18 -0400 (Tue, 30 Apr 2024)