Package: heatmaps
Version: 1.28.0
Maintainer: Malcolm Perry
MaintainerEmail: mgperry32 at gmail.com
git_url: https://git.bioconductor.org/packages/heatmaps
git_branch: RELEASE_3_19
git_last_commit: a8fcea3
git_last_commit_date: 2024-04-30 10:58:04 -0400 (Tue, 30 Apr 2024)