Package: gwascat
Version: 2.36.0
Maintainer: VJ Carey
MaintainerEmail: stvjc at channing.harvard.edu
git_url: https://git.bioconductor.org/packages/gwascat
git_branch: RELEASE_3_19
git_last_commit: 2127a40
git_last_commit_date: 2024-04-30 10:27:03 -0400 (Tue, 30 Apr 2024)