Package: glmGamPoi
Version: 1.16.0
Maintainer: Constantin Ahlmann-Eltze
MaintainerEmail: artjom31415 at googlemail.com
git_url: https://git.bioconductor.org/packages/glmGamPoi
git_branch: RELEASE_3_19
git_last_commit: 50d5e6f
git_last_commit_date: 2024-04-30 11:22:42 -0400 (Tue, 30 Apr 2024)