Package: ggkegg
Version: 1.2.3
Maintainer: Noriaki Sato
MaintainerEmail: nori at hgc.jp
git_url: https://git.bioconductor.org/packages/ggkegg
git_branch: RELEASE_3_19
git_last_commit: 95d38c0
git_last_commit_date: 2024-08-27 22:23:38 -0400 (Tue, 27 Aug 2024)