Package: getDEE2
Version: 1.14.0
Command: /Library/Frameworks/R.framework/Resources/bin/R CMD INSTALL getDEE2
StartedAt: 2024-06-09 15:09:49 -0400 (Sun, 09 Jun 2024)
EndedAt: 2024-06-09 15:10:21 -0400 (Sun, 09 Jun 2024)
EllapsedTime: 32.1 seconds
RetCode: 0
Status: OK