Package: getDEE2
Version: 1.14.0
Command: /Library/Frameworks/R.framework/Resources/bin/R CMD check --install=check:getDEE2.install-out.txt --library=/Library/Frameworks/R.framework/Resources/library --no-vignettes --timings getDEE2_1.14.0.tar.gz
StartedAt: 2024-06-10 17:09:13 -0400 (Mon, 10 Jun 2024)
EndedAt: 2024-06-10 17:18:44 -0400 (Mon, 10 Jun 2024)
EllapsedTime: 570.8 seconds
RetCode: 0
Status: OK
CheckDir: getDEE2.Rcheck
Warnings: 0