Package: getDEE2
Version: 1.14.0
Command: rm -rf getDEE2.buildbin-libdir && mkdir getDEE2.buildbin-libdir && /Users/biocbuild/BBS/utils/build-universal.sh getDEE2_1.14.0.tar.gz /Library/Frameworks/R.framework/Resources/bin/R getDEE2.buildbin-libdir
StartedAt: 2024-06-11 11:25:51 -0400 (Tue, 11 Jun 2024)
EndedAt: 2024-06-11 11:26:35 -0400 (Tue, 11 Jun 2024)
EllapsedTime: 44.4 seconds
RetCode: 0
Status: OK
PackageFile: getDEE2_1.14.0.tgz
PackageFileSize: 71.91 <A href="http://en.wikipedia.org/wiki/KiB" target="_blank">KiB</A>