Package: gep2pep
Version: 1.24.0
Command: /Library/Frameworks/R.framework/Resources/bin/R CMD build --keep-empty-dirs --no-resave-data gep2pep
StartedAt: 2024-06-09 22:09:09 -0400 (Sun, 09 Jun 2024)
EndedAt: 2024-06-09 22:09:48 -0400 (Sun, 09 Jun 2024)
EllapsedTime: 38.4 seconds
RetCode: 0
Status: OK
PackageFile: gep2pep_1.24.0.tar.gz
PackageFileSize: 121.9 <A href="http://en.wikipedia.org/wiki/KiB" target="_blank">KiB</A>