Package: genomicInstability
Version: 1.10.0
Command: F:\biocbuild\bbs-3.19-bioc\R\bin\R.exe CMD INSTALL genomicInstability
StartedAt: 2024-06-26 16:30:10 -0400 (Wed, 26 Jun 2024)
EndedAt: 2024-06-26 16:30:44 -0400 (Wed, 26 Jun 2024)
EllapsedTime: 34.1 seconds
RetCode: 0
Status: OK