Package: genomicInstability
Version: 1.10.0
Command: /home/biocbuild/bbs-3.19-bioc/R/bin/R CMD INSTALL genomicInstability
StartedAt: 2024-10-16 16:28:17 -0400 (Wed, 16 Oct 2024)
EndedAt: 2024-10-16 16:28:41 -0400 (Wed, 16 Oct 2024)
EllapsedTime: 23.7 seconds
RetCode: 0
Status: OK