Package: genomicInstability
Version: 1.10.0
Command: /home/biocbuild/bbs-3.19-bioc/R/bin/R CMD check --install=check:genomicInstability.install-out.txt --library=/home/biocbuild/bbs-3.19-bioc/R/site-library --timings genomicInstability_1.10.0.tar.gz
StartedAt: 2024-10-17 00:45:26 -0400 (Thu, 17 Oct 2024)
EndedAt: 2024-10-17 00:51:46 -0400 (Thu, 17 Oct 2024)
EllapsedTime: 380.7 seconds
RetCode: 0
Status: OK
CheckDir: genomicInstability.Rcheck
Warnings: 0