Package: genomicInstability
Version: 1.10.0
Command: /home/biocbuild/bbs-3.19-bioc/R/bin/R CMD build --keep-empty-dirs --no-resave-data genomicInstability
StartedAt: 2024-10-16 18:40:08 -0400 (Wed, 16 Oct 2024)
EndedAt: 2024-10-16 18:41:57 -0400 (Wed, 16 Oct 2024)
EllapsedTime: 109.2 seconds
RetCode: 0
Status: OK
PackageFile: genomicInstability_1.10.0.tar.gz
PackageFileSize: 1.085 <A href="http://en.wikipedia.org/wiki/MiB" target="_blank">MiB</A>