Package: genomicInstability
Version: 1.10.0
Command: rm -rf genomicInstability.buildbin-libdir && mkdir genomicInstability.buildbin-libdir && /Users/biocbuild/BBS/utils/build-universal.sh genomicInstability_1.10.0.tar.gz /Library/Frameworks/R.framework/Resources/bin/R genomicInstability.buildbin-libdir
StartedAt: 2024-10-18 18:40:34 -0400 (Fri, 18 Oct 2024)
EndedAt: 2024-10-18 18:41:10 -0400 (Fri, 18 Oct 2024)
EllapsedTime: 36.4 seconds
RetCode: 0
Status: OK
PackageFile: genomicInstability_1.10.0.tgz
PackageFileSize: 1.267 <A href="http://en.wikipedia.org/wiki/MiB" target="_blank">MiB</A>