Package: genomes
Version: 3.34.0
Maintainer: Chris Stubben
MaintainerEmail: stubben at lanl.gov
git_url: https://git.bioconductor.org/packages/genomes
git_branch: RELEASE_3_19
git_last_commit: d6f8214
git_last_commit_date: 2024-04-30 10:22:02 -0400 (Tue, 30 Apr 2024)