Package: genomeIntervals
Version: 1.60.0
Maintainer: Julien Gagneur
MaintainerEmail: gagneur at in.tum.de
git_url: https://git.bioconductor.org/packages/genomeIntervals
git_branch: RELEASE_3_19
git_last_commit: 010f263
git_last_commit_date: 2024-04-30 10:19:37 -0400 (Tue, 30 Apr 2024)