Package: genefu
Version: 2.36.0
Maintainer: Benjamin Haibe-Kains
MaintainerEmail: benjamin.haibe.kains at utoronto.ca
git_url: https://git.bioconductor.org/packages/genefu
git_branch: RELEASE_3_19
git_last_commit: a82c8f1
git_last_commit_date: 2024-04-30 10:24:01 -0400 (Tue, 30 Apr 2024)