Package: geneRxCluster
Version: 1.40.0
Command: /Library/Frameworks/R.framework/Resources/bin/R CMD INSTALL geneRxCluster
StartedAt: 2024-06-09 15:08:42 -0400 (Sun, 09 Jun 2024)
EndedAt: 2024-06-09 15:08:59 -0400 (Sun, 09 Jun 2024)
EllapsedTime: 17.2 seconds
RetCode: 0
Status: OK