Package: geneRxCluster
Version: 1.40.0
Command: /Library/Frameworks/R.framework/Resources/bin/R CMD check --install=check:geneRxCluster.install-out.txt --library=/Library/Frameworks/R.framework/Resources/library --no-vignettes --timings geneRxCluster_1.40.0.tar.gz
StartedAt: 2024-06-09 20:32:50 -0400 (Sun, 09 Jun 2024)
EndedAt: 2024-06-09 20:34:17 -0400 (Sun, 09 Jun 2024)
EllapsedTime: 87.5 seconds
RetCode: 0
Status: OK
CheckDir: geneRxCluster.Rcheck
Warnings: 0