Package: geneRxCluster
Version: 1.40.0
Command: /Library/Frameworks/R.framework/Resources/bin/R CMD build --keep-empty-dirs --no-resave-data geneRxCluster
StartedAt: 2024-06-09 16:45:04 -0400 (Sun, 09 Jun 2024)
EndedAt: 2024-06-09 16:45:46 -0400 (Sun, 09 Jun 2024)
EllapsedTime: 42.6 seconds
RetCode: 0
Status: OK
PackageFile: geneRxCluster_1.40.0.tar.gz
PackageFileSize: 279.8 <A href="http://en.wikipedia.org/wiki/KiB" target="_blank">KiB</A>