Package: gemini
Version: 1.18.0
Maintainer: Sidharth Jain
MaintainerEmail: sidharthsjain at gmail.com
git_url: https://git.bioconductor.org/packages/gemini
git_branch: RELEASE_3_19
git_last_commit: ef78bcb
git_last_commit_date: 2024-04-30 11:15:48 -0400 (Tue, 30 Apr 2024)