Package: gdsfmt
Version: 1.40.2
Maintainer: Xiuwen Zheng
MaintainerEmail: zhengx at u.washington.edu
git_url: https://git.bioconductor.org/packages/gdsfmt
git_branch: RELEASE_3_19
git_last_commit: 3e0d008
git_last_commit_date: 2024-09-29 15:14:12 -0400 (Sun, 29 Sep 2024)