Package: gatom
Version: 1.2.0
Maintainer: Alexey Sergushichev
MaintainerEmail: alsergbox at gmail.com
git_url: https://git.bioconductor.org/packages/gatom
git_branch: RELEASE_3_19
git_last_commit: e3c1f20
git_last_commit_date: 2024-04-30 11:52:19 -0400 (Tue, 30 Apr 2024)