Package: gage
Version: 2.54.0
Command: /Library/Frameworks/R.framework/Resources/bin/R CMD INSTALL gage
StartedAt: 2024-06-09 15:32:00 -0400 (Sun, 09 Jun 2024)
EndedAt: 2024-06-09 15:32:23 -0400 (Sun, 09 Jun 2024)
EllapsedTime: 22.7 seconds
RetCode: 0
Status: OK