Package: gDNAx
Version: 1.2.1
Maintainer: Robert Castelo
MaintainerEmail: robert.castelo at upf.edu
git_url: https://git.bioconductor.org/packages/gDNAx
git_branch: RELEASE_3_19
git_last_commit: 576b054
git_last_commit_date: 2024-08-12 11:25:10 -0400 (Mon, 12 Aug 2024)