Package: frmaTools
Version: 1.56.0
Maintainer: Matthew N. McCall
MaintainerEmail: mccallm at gmail.com
git_url: https://git.bioconductor.org/packages/frmaTools
git_branch: RELEASE_3_19
git_last_commit: 934aae4
git_last_commit_date: 2024-04-30 10:21:07 -0400 (Tue, 30 Apr 2024)