Package: fmcsR
Version: 1.46.0
Maintainer: Thomas Girke
MaintainerEmail: thomas.girke at ucr.edu
git_url: https://git.bioconductor.org/packages/fmcsR
git_branch: RELEASE_3_19
git_last_commit: f83e289
git_last_commit_date: 2024-04-30 10:28:40 -0400 (Tue, 30 Apr 2024)